BEGIN:VCALENDAR
VERSION:2.0
PRODID:-//Stadtkloster Bad Mergentheim - ECPv6.15.20//NONSGML v1.0//EN
CALSCALE:GREGORIAN
METHOD:PUBLISH
X-WR-CALNAME:Stadtkloster Bad Mergentheim
X-ORIGINAL-URL:https://stadtkloster-mgh.de
X-WR-CALDESC:Veranstaltungen für Stadtkloster Bad Mergentheim
REFRESH-INTERVAL;VALUE=DURATION:PT1H
X-Robots-Tag:noindex
X-PUBLISHED-TTL:PT1H
BEGIN:VTIMEZONE
TZID:Europe/Berlin
BEGIN:DAYLIGHT
TZOFFSETFROM:+0100
TZOFFSETTO:+0200
TZNAME:CEST
DTSTART:20250330T010000
END:DAYLIGHT
BEGIN:STANDARD
TZOFFSETFROM:+0200
TZOFFSETTO:+0100
TZNAME:CET
DTSTART:20251026T010000
END:STANDARD
BEGIN:DAYLIGHT
TZOFFSETFROM:+0100
TZOFFSETTO:+0200
TZNAME:CEST
DTSTART:20260329T010000
END:DAYLIGHT
BEGIN:STANDARD
TZOFFSETFROM:+0200
TZOFFSETTO:+0100
TZNAME:CET
DTSTART:20261025T010000
END:STANDARD
BEGIN:DAYLIGHT
TZOFFSETFROM:+0100
TZOFFSETTO:+0200
TZNAME:CEST
DTSTART:20270328T010000
END:DAYLIGHT
BEGIN:STANDARD
TZOFFSETFROM:+0200
TZOFFSETTO:+0100
TZNAME:CET
DTSTART:20271031T010000
END:STANDARD
END:VTIMEZONE
BEGIN:VEVENT
DTSTART;TZID=Europe/Berlin:20260219T093000
DTEND;TZID=Europe/Berlin:20260219T110000
DTSTAMP:20260421T141403
CREATED:20251230T162050Z
LAST-MODIFIED:20251230T162050Z
UID:4431-1771493400-1771498800@stadtkloster-mgh.de
SUMMARY:Bibel teilen
DESCRIPTION:Das Wort Gottes will in unserem Leben lebendig und konkret werden.\nWir bereiten das Evangelium des folgenden Sonntags miteinander im Gespräch vor und bringen es mit unserem eigenen Leben in Verbindung.\n9.30 – 11.00 Uhr\n19.02. / 05.03. / 19.03. / 02.04. / 16.04. / 30.04. / 21.05. / 11.06. / 25.06. / 09.07.2026\nLeitung: Sr. M. Rita Bystricky\nStadtkloster Bad Mergentheim
URL:https://stadtkloster-mgh.de/event/bibel-teilen/
END:VEVENT
BEGIN:VEVENT
DTSTART;TZID=Europe/Berlin:20260219T143000
DTEND;TZID=Europe/Berlin:20260219T160000
DTSTAMP:20260421T141403
CREATED:20260108T081646Z
LAST-MODIFIED:20260108T081650Z
UID:4590-1771511400-1771516800@stadtkloster-mgh.de
SUMMARY:Bewegt miteinander glauben - glaubend unterwegs sein
DESCRIPTION:Den Weg unter die Füße nehmen – pilgern – ist eine Ur-Form des christlichen Glaubens. In meditativen Wanderungen öffnen wir uns für Gottes Liebe\, staunen über die Wunder seiner Schöpfung\, werden sensibel für die eigene Lebens- und Glaubensspur. \nPilgern für den Frieden  Auf dem Pfad der Menschenrechte leiten uns Impulse und Gebete für den Frieden.\nDonnerstag    19.02.2026    14:30 – 16:00 Uhr\nTreffpunkt: Kurverwaltung\, Lothar-Daiker-Str. 4\, Bad Mergentheim \nWegbegleitung: Wolfgang Bork\, Diakon\, Sr. Rita Bystricky\nAnmeldung: jeweils bis zum Vortag        Mail: sr.rita@klostersiessen.de
URL:https://stadtkloster-mgh.de/event/bewegt-miteinander-glauben-glaubend-unterwegs-sein/
END:VEVENT
BEGIN:VEVENT
DTSTART;TZID=Europe/Berlin:20260219T193000
DTEND;TZID=Europe/Berlin:20260219T210000
DTSTAMP:20260421T141403
CREATED:20260102T163213Z
LAST-MODIFIED:20260102T163216Z
UID:4538-1771529400-1771534800@stadtkloster-mgh.de
SUMMARY:Offenes Singen spiritueller Lieder mit Harfe und Gitarre
DESCRIPTION:Gemeinsames Singen leicht zu erlernender spiritueller Lieder und Mantras aus aller Welt. Für Gabrielle Weigel mit der Harfe und Herbert Hofmann mit der Gitarre stehen die Freude am Singen und der Zugang in die eigene Tiefe und in die innere Stille im Mittelpunkt.\nNähere Infos unter: www.songsofjoy.de\nDonnerstag    19.30 – 21.00 Uhr\n19.02. / 19.03. / 16.04. / 21.05. / 18.06. / 16.07.2026\nKostenbeitrag erbeten\nStadtkloster Bad Mergentheim
URL:https://stadtkloster-mgh.de/event/offenes-singen-spiritueller-lieder-mit-harfe-und-gitarre-2/
LOCATION:Stadtkloster Maria Hilf\, Marienstraße 1/1\, Bad Mergentheim\, 97980
END:VEVENT
END:VCALENDAR