BEGIN:VCALENDAR
VERSION:2.0
PRODID:-//Stadtkloster Bad Mergentheim - ECPv6.15.20//NONSGML v1.0//EN
CALSCALE:GREGORIAN
METHOD:PUBLISH
X-ORIGINAL-URL:https://stadtkloster-mgh.de
X-WR-CALDESC:Veranstaltungen für Stadtkloster Bad Mergentheim
REFRESH-INTERVAL;VALUE=DURATION:PT1H
X-Robots-Tag:noindex
X-PUBLISHED-TTL:PT1H
BEGIN:VTIMEZONE
TZID:Europe/Berlin
BEGIN:DAYLIGHT
TZOFFSETFROM:+0100
TZOFFSETTO:+0200
TZNAME:CEST
DTSTART:20250330T010000
END:DAYLIGHT
BEGIN:STANDARD
TZOFFSETFROM:+0200
TZOFFSETTO:+0100
TZNAME:CET
DTSTART:20251026T010000
END:STANDARD
BEGIN:DAYLIGHT
TZOFFSETFROM:+0100
TZOFFSETTO:+0200
TZNAME:CEST
DTSTART:20260329T010000
END:DAYLIGHT
BEGIN:STANDARD
TZOFFSETFROM:+0200
TZOFFSETTO:+0100
TZNAME:CET
DTSTART:20261025T010000
END:STANDARD
BEGIN:DAYLIGHT
TZOFFSETFROM:+0100
TZOFFSETTO:+0200
TZNAME:CEST
DTSTART:20270328T010000
END:DAYLIGHT
BEGIN:STANDARD
TZOFFSETFROM:+0200
TZOFFSETTO:+0100
TZNAME:CET
DTSTART:20271031T010000
END:STANDARD
END:VTIMEZONE
BEGIN:VEVENT
DTSTART;TZID=Europe/Berlin:20260325T093000
DTEND;TZID=Europe/Berlin:20260325T110000
DTSTAMP:20260420T114149
CREATED:20260102T162007Z
LAST-MODIFIED:20260102T162012Z
UID:4514-1774431000-1774436400@stadtkloster-mgh.de
SUMMARY:Meditation am Vormittag
DESCRIPTION:Mitten im Alltag innehalten\, zur Ruhe kommen\, bei sich selbst und bei Gott ankommen.\nElemente: Impulse zur Stille und zum Gebet\, Beten mit dem Leib\, Meditatives Gehen\, Sitzen in der Stille.\nBitte mitbringen: Warme Socken\, bequeme Kleidung.\n9.30 – 11.00 Uhr\n25.03. / 15.04. / 29.04. / 20.05. / 03.06./ 17.06. / 15.07. / 29.07.2026\nLeitung: Sr. Ursula Hedrich\nStadtkloster Bad Mergentheim
URL:https://stadtkloster-mgh.de/event/meditation-am-vormittag-4/
END:VEVENT
BEGIN:VEVENT
DTSTART;TZID=Europe/Berlin:20260325T193000
DTEND;TZID=Europe/Berlin:20260325T210000
DTSTAMP:20260420T114149
CREATED:20260108T084523Z
LAST-MODIFIED:20260108T084528Z
UID:4619-1774467000-1774472400@stadtkloster-mgh.de
SUMMARY:Kleine Auszeit für Frauen - Weil ich es mir wert bin…
DESCRIPTION:…gönne ich mir einen Abend Zeit\, um die Seele zu streicheln und sie baumeln zu lassen.\nEin Impulsgedanke führt durch den Abend. Vielfältige Methoden wie Achtsamkeitsübungen oder meditativer Tanz helfen Ressourcen aufzutanken\, durchzuatmen\, sich zu erden und zu entspannen. Im Mittelpunkt stehen dabei das persönliche Erleben und der Austausch untereinander.\nDie Abende können unabhängig voneinander besucht werden.\n19:30 Uhr – 21:00 Uhr\nMittwoch    25. März 2026   „Wenn Funken sprühen“\nFreitag          26. Juni 2026   „Zur Quelle finden“\nLeitung: Mechthild Carlet\, Gestaltberaterin\, Katechetin\, Dekanatsbeauftragte für Familienpastoral\nAnmeldung: KEB Tel: 07931/9689743 oder Mail: keb.mergentheim@drs.de\nKostenbeitrag erbeten\nVeranstalter: KEB Mergentheim und Stadtkloster\nStadtkloster Bad Mergentheim
URL:https://stadtkloster-mgh.de/event/kleine-auszeit-fuer-frauen-weil-ich-es-mir-wert-bin/
END:VEVENT
END:VCALENDAR