BEGIN:VCALENDAR
VERSION:2.0
PRODID:-//Stadtkloster Bad Mergentheim - ECPv6.15.20//NONSGML v1.0//EN
CALSCALE:GREGORIAN
METHOD:PUBLISH
X-WR-CALNAME:Stadtkloster Bad Mergentheim
X-ORIGINAL-URL:https://stadtkloster-mgh.de
X-WR-CALDESC:Veranstaltungen für Stadtkloster Bad Mergentheim
REFRESH-INTERVAL;VALUE=DURATION:PT1H
X-Robots-Tag:noindex
X-PUBLISHED-TTL:PT1H
BEGIN:VTIMEZONE
TZID:Europe/Berlin
BEGIN:DAYLIGHT
TZOFFSETFROM:+0100
TZOFFSETTO:+0200
TZNAME:CEST
DTSTART:20250330T010000
END:DAYLIGHT
BEGIN:STANDARD
TZOFFSETFROM:+0200
TZOFFSETTO:+0100
TZNAME:CET
DTSTART:20251026T010000
END:STANDARD
BEGIN:DAYLIGHT
TZOFFSETFROM:+0100
TZOFFSETTO:+0200
TZNAME:CEST
DTSTART:20260329T010000
END:DAYLIGHT
BEGIN:STANDARD
TZOFFSETFROM:+0200
TZOFFSETTO:+0100
TZNAME:CET
DTSTART:20261025T010000
END:STANDARD
BEGIN:DAYLIGHT
TZOFFSETFROM:+0100
TZOFFSETTO:+0200
TZNAME:CEST
DTSTART:20270328T010000
END:DAYLIGHT
BEGIN:STANDARD
TZOFFSETFROM:+0200
TZOFFSETTO:+0100
TZNAME:CET
DTSTART:20271031T010000
END:STANDARD
END:VTIMEZONE
BEGIN:VEVENT
DTSTART;TZID=Europe/Berlin:20260523T183000
DTEND;TZID=Europe/Berlin:20260523T200000
DTSTAMP:20260421T102908
CREATED:20251230T161020Z
LAST-MODIFIED:20251230T161020Z
UID:4412-1779561000-1779566400@stadtkloster-mgh.de
SUMMARY:Pfingstvigil – „Komm\, Heiliger Geist“
DESCRIPTION:Am Vorabend von Pfingsten beten wir in einem besinnlichen Abendlob gemeinsam um den Heiligen Geist.\nElemente: Impulse\, Lieder\, Gebet\, Stille. Anschließend Einladung zur Begegnung im Stadtkloster.\nSamstag       18:30 Uhr\n23. Mai 2026\nKlosterkirche Bad Mergentheim
URL:https://stadtkloster-mgh.de/event/pfingstvigil-komm-heiliger-geist/
END:VEVENT
END:VCALENDAR