BEGIN:VCALENDAR
VERSION:2.0
PRODID:-//Stadtkloster Bad Mergentheim - ECPv6.15.20//NONSGML v1.0//EN
CALSCALE:GREGORIAN
METHOD:PUBLISH
X-WR-CALNAME:Stadtkloster Bad Mergentheim
X-ORIGINAL-URL:https://stadtkloster-mgh.de
X-WR-CALDESC:Veranstaltungen für Stadtkloster Bad Mergentheim
REFRESH-INTERVAL;VALUE=DURATION:PT1H
X-Robots-Tag:noindex
X-PUBLISHED-TTL:PT1H
BEGIN:VTIMEZONE
TZID:Europe/Berlin
BEGIN:DAYLIGHT
TZOFFSETFROM:+0100
TZOFFSETTO:+0200
TZNAME:CEST
DTSTART:20250330T010000
END:DAYLIGHT
BEGIN:STANDARD
TZOFFSETFROM:+0200
TZOFFSETTO:+0100
TZNAME:CET
DTSTART:20251026T010000
END:STANDARD
BEGIN:DAYLIGHT
TZOFFSETFROM:+0100
TZOFFSETTO:+0200
TZNAME:CEST
DTSTART:20260329T010000
END:DAYLIGHT
BEGIN:STANDARD
TZOFFSETFROM:+0200
TZOFFSETTO:+0100
TZNAME:CET
DTSTART:20261025T010000
END:STANDARD
BEGIN:DAYLIGHT
TZOFFSETFROM:+0100
TZOFFSETTO:+0200
TZNAME:CEST
DTSTART:20270328T010000
END:DAYLIGHT
BEGIN:STANDARD
TZOFFSETFROM:+0200
TZOFFSETTO:+0100
TZNAME:CET
DTSTART:20271031T010000
END:STANDARD
END:VTIMEZONE
BEGIN:VEVENT
DTSTART;TZID=Europe/Berlin:20261009T190000
DTEND;TZID=Europe/Berlin:20261009T200000
DTSTAMP:20260421T122701
CREATED:20260302T085408Z
LAST-MODIFIED:20260302T085408Z
UID:4652-1791572400-1791576000@stadtkloster-mgh.de
SUMMARY:Nacht der Lichter - Taizégebet
DESCRIPTION:Gesänge aus Taizé\, biblische Texte zum Nachdenken und eine Zeit der gemeinsamen Stille helfen\, bei sich selbst und bei Gott anzukommen.\n19.00 – 20.00 Uhr    Caritas-Kirche Bad Mergentheim \n\nFreitag\, 9. Oktober 2026
URL:https://stadtkloster-mgh.de/event/nacht-der-lichter-taizegebet-2/
END:VEVENT
END:VCALENDAR