BEGIN:VCALENDAR
VERSION:2.0
PRODID:-//Stadtkloster Bad Mergentheim - ECPv6.15.20//NONSGML v1.0//EN
CALSCALE:GREGORIAN
METHOD:PUBLISH
X-ORIGINAL-URL:https://stadtkloster-mgh.de
X-WR-CALDESC:Veranstaltungen für Stadtkloster Bad Mergentheim
REFRESH-INTERVAL;VALUE=DURATION:PT1H
X-Robots-Tag:noindex
X-PUBLISHED-TTL:PT1H
BEGIN:VTIMEZONE
TZID:Europe/Berlin
BEGIN:DAYLIGHT
TZOFFSETFROM:+0100
TZOFFSETTO:+0200
TZNAME:CEST
DTSTART:20250330T010000
END:DAYLIGHT
BEGIN:STANDARD
TZOFFSETFROM:+0200
TZOFFSETTO:+0100
TZNAME:CET
DTSTART:20251026T010000
END:STANDARD
BEGIN:DAYLIGHT
TZOFFSETFROM:+0100
TZOFFSETTO:+0200
TZNAME:CEST
DTSTART:20260329T010000
END:DAYLIGHT
BEGIN:STANDARD
TZOFFSETFROM:+0200
TZOFFSETTO:+0100
TZNAME:CET
DTSTART:20261025T010000
END:STANDARD
BEGIN:DAYLIGHT
TZOFFSETFROM:+0100
TZOFFSETTO:+0200
TZNAME:CEST
DTSTART:20270328T010000
END:DAYLIGHT
BEGIN:STANDARD
TZOFFSETFROM:+0200
TZOFFSETTO:+0100
TZNAME:CET
DTSTART:20271031T010000
END:STANDARD
END:VTIMEZONE
BEGIN:VEVENT
DTSTART;TZID=Europe/Berlin:20260509T143000
DTEND;TZID=Europe/Berlin:20260509T170000
DTSTAMP:20260419T204235
CREATED:20250805T190035Z
LAST-MODIFIED:20260126T082836Z
UID:4003-1778337000-1778346000@stadtkloster-mgh.de
SUMMARY:Bibel kreativ – sich selbst finden in Gottes Worten
DESCRIPTION:Mit allen Sinnen tauchen wir in einen biblischen Text ein. Die Gestaltung mit Farben und Materialien führt in die innere Ruhe.\nAuf kreative Weise sortieren wir Gedanken\, stärken den eigenen Glauben und entdecken Neues.\nEin Nachmittag für alle\, die Spaß an der Bibel und Kraft für den Alltag suchen.\nVielfältiges Material ist vorhanden. Lieblingsstifte und -farben dürfen gerne mitgebracht werden.\nSamstag\, 9. Mai 2026\n14.30 – 17.00 Uhr.\nAnmeldung: bis 7.5. unter stadtkloster.mergentheim@drs.de\nSpende erwünscht\nLeitung: Beate Schmid\, Religionspädagogin\, Bibelerzählerin\, Crossmediale Glaubenskommunikation\nStadtkloster Bad Mergentheim
URL:https://stadtkloster-mgh.de/event/bibel-kreativ-sich-selbst-finden-in-gottes-worten/
END:VEVENT
BEGIN:VEVENT
DTSTART;TZID=Europe/Berlin:20260511T193000
DTEND;TZID=Europe/Berlin:20260511T210000
DTSTAMP:20260419T204235
CREATED:20251230T163444Z
LAST-MODIFIED:20251230T163448Z
UID:4453-1778527800-1778533200@stadtkloster-mgh.de
SUMMARY:Bibliolog - Die Bibel hautnah erleben
DESCRIPTION:Das Wort Bibliolog setzt sich aus den Worten Bibel und Dialog zusammen. Es ist ein Weg\, biblische Texte für heute lebendig werden zu lassen. Wir treten mit den Rollen der Bibel in den Dialog und lassen uns von ihnen inspirieren und berühren. Vorkenntnisse sind nicht nötig. Das\, was jede und jeder mitbringt\, reicht\, um die Bibel mit Leben zu füllen.\n19:30 – 21:00 Uhr\nMo 11.05. / Di 16.06. / Do 23.07.2026\nLeitung: Sr. M. Ursula Hedrich\nStadtkloster Bad Mergentheim
URL:https://stadtkloster-mgh.de/event/bibliolog-die-bibel-hautnah-erleben-5/
END:VEVENT
BEGIN:VEVENT
DTSTART;TZID=Europe/Berlin:20260518T180000
DTEND;TZID=Europe/Berlin:20260518T190000
DTSTAMP:20260419T204235
CREATED:20260102T161051Z
LAST-MODIFIED:20260102T161057Z
UID:4496-1779127200-1779130800@stadtkloster-mgh.de
SUMMARY:Eutonie
DESCRIPTION:In der Eutonie geht es darum\, mit Leib und Seele gegenwärtig zu sein und den eigenen Leib bewusst wahrzunehmen.\nBitte mitbringen: bequeme Kleidung\, warme Socken\, Decke\, Handtuch.\nMontag    18.00 – 19.00 Uhr\n18.05. / 08.06. / 22.06. / 06.07. / 20.07.2026\nLeitung: Helga Haupt                Kostenbeitrag erbeten\nStadtkloster Bad Mergentheim
URL:https://stadtkloster-mgh.de/event/eutonie-7/
END:VEVENT
BEGIN:VEVENT
DTSTART;TZID=Europe/Berlin:20260518T193000
DTEND;TZID=Europe/Berlin:20260518T203000
DTSTAMP:20260419T204235
CREATED:20251230T095626Z
LAST-MODIFIED:20251230T095629Z
UID:4388-1779132600-1779136200@stadtkloster-mgh.de
SUMMARY:Seelentauchen
DESCRIPTION:Kontemplation zum Ausklang des Tages\nKontemplation ist ein Übungsweg\, der die Praxis der christlichen Meditation vertieft\, die intuitive Erkenntnis des Selbst- und In-der-Welt-Seins fördert und die Weiterentwicklung der Person unterstützt.\nElemente: Einstiegsimpuls\, 2×25 Min. Sitzen in der Stille\, 1x meditatives Gehen. \n\n19.30 – 20.30 Uhr\n18.05. / 08.06. / 22.06. / 06.07. / 20.07.2026\nLeitung: Anette Roppert-Leimeister\nStadtkloster Bad Mergentheim
URL:https://stadtkloster-mgh.de/event/seelentauchen-10/
END:VEVENT
BEGIN:VEVENT
DTSTART;TZID=Europe/Berlin:20260519T193000
DTEND;TZID=Europe/Berlin:20260519T210000
DTSTAMP:20260419T204235
CREATED:20260108T083606Z
LAST-MODIFIED:20260108T083609Z
UID:4607-1779219000-1779224400@stadtkloster-mgh.de
SUMMARY:Trotzdem – Ein Angebot für Menschen\, die der Kirche den Rücken gekehrt haben
DESCRIPTION:Sind Sie aus der Kirche ausgetreten – und trotzdem gläubig?\nHat die Kirche Sie enttäuscht – und trotzdem wollen Sie nicht aufgeben?\nHaben Sie Ihren Glauben verloren – und suchen trotzdem nach Sinn?\nWir laden ein zu Begegnung\, Austausch und wer mag zu Stille.\nDie Abende können unabhängig voneinander und ohne Anmeldung besucht werden.\n19:30 – 21:00 Uhr\nDienstag        19. Mai 2026\nDonnerstag      9. Juli 2026\nLeitung: Sr. Ursula Hedrich\, Dr. Jonatan Burger\, Jens Jörgensmann\nStadtkloster Bad Mergentheim
URL:https://stadtkloster-mgh.de/event/trotzdem-ein-angebot-fuer-menschen-die-der-kirche-den-ruecken-gekehrt-haben-3/
END:VEVENT
BEGIN:VEVENT
DTSTART;TZID=Europe/Berlin:20260520T093000
DTEND;TZID=Europe/Berlin:20260520T110000
DTSTAMP:20260419T204235
CREATED:20260102T162253Z
LAST-MODIFIED:20260102T162259Z
UID:4527-1779269400-1779274800@stadtkloster-mgh.de
SUMMARY:Meditation am Vormittag
DESCRIPTION:Mitten im Alltag innehalten\, zur Ruhe kommen\, bei sich selbst und bei Gott ankommen.\nElemente: Impulse zur Stille und zum Gebet\, Beten mit dem Leib\, Meditatives Gehen\, Sitzen in der Stille.\nBitte mitbringen: Warme Socken\, bequeme Kleidung.\n9.30 – 11.00 Uhr\n20.05. / 03.06./ 17.06. / 15.07. / 29.07.2026\nLeitung: Sr. Ursula Hedrich\nStadtkloster Bad Mergentheim
URL:https://stadtkloster-mgh.de/event/meditation-am-vormittag-9/
END:VEVENT
BEGIN:VEVENT
DTSTART;TZID=Europe/Berlin:20260520T170000
DTEND;TZID=Europe/Berlin:20260520T193000
DTSTAMP:20260419T204235
CREATED:20260107T173755Z
LAST-MODIFIED:20260107T173758Z
UID:4578-1779296400-1779305400@stadtkloster-mgh.de
SUMMARY:Kulinarisches in der Klosterküche
DESCRIPTION:Gemeinschaft pflegen – miteinander kochen – einfache Lebensmittel verzaubern – gemeinsam verkosten und genießen\nMittwoch       17:00 – 19:30 Uhr \n\n20.05.2026 Pasta – geht immer\n17.06.2026 Fingerfood – kreativ und köstlich\n15.07.2026 Sommer – frisch\, leicht und bunt\n\nLeitung: Sr. Rita Bystricky\nAnmeldung: bis zum Vortag      Mail: sr.rita@klostersiessen.de\nKostenbeitrag erwünscht\nStadtkloster Bad Mergentheim
URL:https://stadtkloster-mgh.de/event/kulinarisches-in-der-klosterkueche-4/
END:VEVENT
BEGIN:VEVENT
DTSTART;TZID=Europe/Berlin:20260521T093000
DTEND;TZID=Europe/Berlin:20260521T110000
DTSTAMP:20260419T204235
CREATED:20251230T162616Z
LAST-MODIFIED:20251230T162626Z
UID:4436-1779355800-1779361200@stadtkloster-mgh.de
SUMMARY:Bibel teilen
DESCRIPTION:Das Wort Gottes will in unserem Leben lebendig und konkret werden.\nWir bereiten das Evangelium des folgenden Sonntags miteinander im Gespräch vor und bringen es mit unserem eigenen Leben in Verbindung.\n9:30 – 11:00 Uhr\n21.05. / 11.06. / 25.06. / 09.07.2026\nLeitung: Sr. M. Rita Bystricky\nStadtkloster Bad Mergentheim
URL:https://stadtkloster-mgh.de/event/bibel-teilen-7/
END:VEVENT
BEGIN:VEVENT
DTSTART;TZID=Europe/Berlin:20260521T193000
DTEND;TZID=Europe/Berlin:20260521T210000
DTSTAMP:20260419T204235
CREATED:20260102T163356Z
LAST-MODIFIED:20260102T163400Z
UID:4544-1779391800-1779397200@stadtkloster-mgh.de
SUMMARY:Offenes Singen spiritueller Lieder mit Harfe und Gitarre
DESCRIPTION:Gemeinsames Singen leicht zu erlernender spiritueller Lieder und Mantras aus aller Welt. Für Gabrielle Weigel mit der Harfe und Herbert Hofmann mit der Gitarre stehen die Freude am Singen und der Zugang in die eigene Tiefe und in die innere Stille im Mittelpunkt.\nNähere Infos unter: www.songsofjoy.de\nDonnerstag    19.30 – 21.00 Uhr\n21.05. / 18.06. / 16.07.2026\nKostenbeitrag erbeten\nStadtkloster Bad Mergentheim
URL:https://stadtkloster-mgh.de/event/offenes-singen-spiritueller-lieder-mit-harfe-und-gitarre-6/
LOCATION:Stadtkloster Maria Hilf\, Marienstraße 1/1\, Bad Mergentheim\, 97980
END:VEVENT
BEGIN:VEVENT
DTSTART;TZID=Europe/Berlin:20260522T143000
DTEND;TZID=Europe/Berlin:20260522T170000
DTSTAMP:20260419T204235
CREATED:20260108T082031Z
LAST-MODIFIED:20260108T082035Z
UID:4587-1779460200-1779469200@stadtkloster-mgh.de
SUMMARY:Bewegt miteinander glauben - glaubend unterwegs sein
DESCRIPTION:Den Weg unter die Füße nehmen – pilgern – ist eine Ur-Form des christlichen Glaubens. In meditativen Wanderungen öffnen wir uns für Gottes Liebe\, staunen über die Wunder seiner Schöpfung\, werden sensibel für die eigene Lebens- und Glaubensspur. \nLebensspuren der Hl. Rita  Am Festtag der Heiligen entdecken wir auf dem Weg zum Bildstock am Igersheimer Altenberg Lebenszüge der Heiligen\, die uns heute wertvoll sein können.\nFreitag    22.05.2026    14:30 – 17:00 Uhr\nTreffpunkt: Parkplatz Großsporthalle\, Igersheim \nWegbegleitung: Wolfgang Bork\, Diakon\, Sr. Rita Bystricky\nAnmeldung: jeweils bis zum Vortag        Mail: sr.rita@klostersiessen.de
URL:https://stadtkloster-mgh.de/event/bewegt-miteinander-glauben-glaubend-unterwegs-sein-4/
END:VEVENT
BEGIN:VEVENT
DTSTART;TZID=Europe/Berlin:20260523T183000
DTEND;TZID=Europe/Berlin:20260523T200000
DTSTAMP:20260419T204235
CREATED:20251230T161020Z
LAST-MODIFIED:20251230T161020Z
UID:4412-1779561000-1779566400@stadtkloster-mgh.de
SUMMARY:Pfingstvigil – „Komm\, Heiliger Geist“
DESCRIPTION:Am Vorabend von Pfingsten beten wir in einem besinnlichen Abendlob gemeinsam um den Heiligen Geist.\nElemente: Impulse\, Lieder\, Gebet\, Stille. Anschließend Einladung zur Begegnung im Stadtkloster.\nSamstag       18:30 Uhr\n23. Mai 2026\nKlosterkirche Bad Mergentheim
URL:https://stadtkloster-mgh.de/event/pfingstvigil-komm-heiliger-geist/
END:VEVENT
BEGIN:VEVENT
DTSTART;TZID=Europe/Berlin:20260603T093000
DTEND;TZID=Europe/Berlin:20260603T110000
DTSTAMP:20260419T204235
CREATED:20260102T162326Z
LAST-MODIFIED:20260102T162332Z
UID:4526-1780479000-1780484400@stadtkloster-mgh.de
SUMMARY:Meditation am Vormittag
DESCRIPTION:Mitten im Alltag innehalten\, zur Ruhe kommen\, bei sich selbst und bei Gott ankommen.\nElemente: Impulse zur Stille und zum Gebet\, Beten mit dem Leib\, Meditatives Gehen\, Sitzen in der Stille.\nBitte mitbringen: Warme Socken\, bequeme Kleidung.\n9.30 – 11.00 Uhr\n03.06./ 17.06. / 15.07. / 29.07.2026\nLeitung: Sr. Ursula Hedrich\nStadtkloster Bad Mergentheim
URL:https://stadtkloster-mgh.de/event/meditation-am-vormittag-10/
END:VEVENT
BEGIN:VEVENT
DTSTART;TZID=Europe/Berlin:20260608T180000
DTEND;TZID=Europe/Berlin:20260608T190000
DTSTAMP:20260419T204235
CREATED:20260102T161122Z
LAST-MODIFIED:20260102T161130Z
UID:4495-1780941600-1780945200@stadtkloster-mgh.de
SUMMARY:Eutonie
DESCRIPTION:In der Eutonie geht es darum\, mit Leib und Seele gegenwärtig zu sein und den eigenen Leib bewusst wahrzunehmen.\nBitte mitbringen: bequeme Kleidung\, warme Socken\, Decke\, Handtuch.\nMontag    18.00 – 19.00 Uhr\n08.06. / 22.06. / 06.07. / 20.07.2026\nLeitung: Helga Haupt                Kostenbeitrag erbeten\nStadtkloster Bad Mergentheim
URL:https://stadtkloster-mgh.de/event/eutonie-8/
END:VEVENT
BEGIN:VEVENT
DTSTART;TZID=Europe/Berlin:20260608T193000
DTEND;TZID=Europe/Berlin:20260608T203000
DTSTAMP:20260419T204235
CREATED:20251230T095708Z
LAST-MODIFIED:20251230T095712Z
UID:4387-1780947000-1780950600@stadtkloster-mgh.de
SUMMARY:Seelentauchen
DESCRIPTION:Kontemplation zum Ausklang des Tages\nKontemplation ist ein Übungsweg\, der die Praxis der christlichen Meditation vertieft\, die intuitive Erkenntnis des Selbst- und In-der-Welt-Seins fördert und die Weiterentwicklung der Person unterstützt.\nElemente: Einstiegsimpuls\, 2×25 Min. Sitzen in der Stille\, 1x meditatives Gehen. \n\n19.30 – 20.30 Uhr\n08.06. / 22.06. / 06.07. / 20.07.2026\nLeitung: Anette Roppert-Leimeister\nStadtkloster Bad Mergentheim
URL:https://stadtkloster-mgh.de/event/seelentauchen-11/
END:VEVENT
BEGIN:VEVENT
DTSTART;TZID=Europe/Berlin:20260610T190000
DTEND;TZID=Europe/Berlin:20260610T203000
DTSTAMP:20260419T204235
CREATED:20260108T085412Z
LAST-MODIFIED:20260108T085415Z
UID:4631-1781118000-1781123400@stadtkloster-mgh.de
SUMMARY:Besinnungs- und Bewegungsabend für Frauen
DESCRIPTION:Wir öffnen Raum\, um Gott neu in der Schöpfung\, im eigenen Körper und in der inneren Bewegung zu entdecken.\nElemente: Impuls zur Begegnung Jesu mit der blutflüssigen Frau (Mk 5\,25-34)\, sanfte Faszienübungen und Pilates-Einheit\, geistlicher Impuls\, Stille und Meditation.\nBitte mitbringen: bequeme Kleidung\, ggf. warme Socken\, Yoga-Matte oder Decke.\nMittwoch    10. Juni 2026     19:00 – 20:30 Uhr\nLeitung: Christina Kirchner\, Physiotherapeutin\, Entspannungs-\, Pilates-Yogalehrerin\, Sr. Ursula Hedrich\nAnmeldung: bis 03.06.     Teilnehmerinnenzahl begrenzt\nKostenbeitrag erwünscht\nStadtkloster Bad Mergentheim
URL:https://stadtkloster-mgh.de/event/besinnungs-und-bewegungsabend-fuer-frauen/
END:VEVENT
BEGIN:VEVENT
DTSTART;TZID=Europe/Berlin:20260611T093000
DTEND;TZID=Europe/Berlin:20260611T110000
DTSTAMP:20260419T204235
CREATED:20251230T162729Z
LAST-MODIFIED:20251230T162732Z
UID:4446-1781170200-1781175600@stadtkloster-mgh.de
SUMMARY:Bibel teilen
DESCRIPTION:Das Wort Gottes will in unserem Leben lebendig und konkret werden.\nWir bereiten das Evangelium des folgenden Sonntags miteinander im Gespräch vor und bringen es mit unserem eigenen Leben in Verbindung.\n9:30 – 11:00 Uhr\n11.06. / 25.06. / 09.07.2026\nLeitung: Sr. M. Rita Bystricky\nStadtkloster Bad Mergentheim
URL:https://stadtkloster-mgh.de/event/bibel-teilen-8/
END:VEVENT
BEGIN:VEVENT
DTSTART;TZID=Europe/Berlin:20260611T150000
DTEND;TZID=Europe/Berlin:20260611T170000
DTSTAMP:20260419T204235
CREATED:20260102T164931Z
LAST-MODIFIED:20260102T164934Z
UID:4552-1781190000-1781197200@stadtkloster-mgh.de
SUMMARY:Lebenswege – Geschichten\, die verbinden
DESCRIPTION:Bei diesen Treffen geht es um das Teilen von Lebensgeschichten\, um Zuhören\, Resonanz und gegenseitige Inspiration\, begleitet von Impulsen. Die Nachmittage können unabhängig voneinander besucht werden.\n\n11.06.2026\nMein tägliches Tun\nGeschichten aus Beruf\, Familie und Lebensaufgaben.\nWelche Arbeit hat Sie erfüllt?\n\nLeitung: Cordula Günther\nAnmeldung: bis jeweils vorherigen Samstag\nStadtkloster Bad Mergentheim
URL:https://stadtkloster-mgh.de/event/lebenswege-geschichten-die-verbinden-5/
END:VEVENT
BEGIN:VEVENT
DTSTART;TZID=Europe/Berlin:20260614T183000
DTEND;TZID=Europe/Berlin:20260614T200000
DTSTAMP:20260419T204235
CREATED:20251230T164306Z
LAST-MODIFIED:20251230T164309Z
UID:4473-1781461800-1781467200@stadtkloster-mgh.de
SUMMARY:Lectio Divina
DESCRIPTION:Gemeinsam lesen wir ausgewählte Texte aus den Evangelien\, verweilen im stillen Hören\, teilen Impulse und stärken unseren Glauben aus dem Wort Gottes.\nSonntag   18:30 – 20:00 Uhr\n14.06. / 12.07.2026\nLeitung: Barbara Ruck\nOrt: Carolinum\, Kapelle/Mehrzweckraum\, Bad Mergentheim
URL:https://stadtkloster-mgh.de/event/lectio-divina-5/
END:VEVENT
BEGIN:VEVENT
DTSTART;TZID=Europe/Berlin:20260616T193000
DTEND;TZID=Europe/Berlin:20260616T210000
DTSTAMP:20260419T204235
CREATED:20251230T163520Z
LAST-MODIFIED:20251230T163524Z
UID:4452-1781638200-1781643600@stadtkloster-mgh.de
SUMMARY:Bibliolog - Die Bibel hautnah erleben
DESCRIPTION:Das Wort Bibliolog setzt sich aus den Worten Bibel und Dialog zusammen. Es ist ein Weg\, biblische Texte für heute lebendig werden zu lassen. Wir treten mit den Rollen der Bibel in den Dialog und lassen uns von ihnen inspirieren und berühren. Vorkenntnisse sind nicht nötig. Das\, was jede und jeder mitbringt\, reicht\, um die Bibel mit Leben zu füllen.\n19:30 – 21:00 Uhr\nDi 16.06. / Do 23.07.2026\nLeitung: Sr. M. Ursula Hedrich\nStadtkloster Bad Mergentheim
URL:https://stadtkloster-mgh.de/event/bibliolog-die-bibel-hautnah-erleben-6/
END:VEVENT
BEGIN:VEVENT
DTSTART;TZID=Europe/Berlin:20260617T093000
DTEND;TZID=Europe/Berlin:20260617T110000
DTSTAMP:20260419T204235
CREATED:20260102T162400Z
LAST-MODIFIED:20260102T162408Z
UID:4525-1781688600-1781694000@stadtkloster-mgh.de
SUMMARY:Meditation am Vormittag
DESCRIPTION:Mitten im Alltag innehalten\, zur Ruhe kommen\, bei sich selbst und bei Gott ankommen.\nElemente: Impulse zur Stille und zum Gebet\, Beten mit dem Leib\, Meditatives Gehen\, Sitzen in der Stille.\nBitte mitbringen: Warme Socken\, bequeme Kleidung.\n9.30 – 11.00 Uhr\n17.06. / 15.07. / 29.07.2026\nLeitung: Sr. Ursula Hedrich\nStadtkloster Bad Mergentheim
URL:https://stadtkloster-mgh.de/event/meditation-am-vormittag-11/
END:VEVENT
BEGIN:VEVENT
DTSTART;TZID=Europe/Berlin:20260617T170000
DTEND;TZID=Europe/Berlin:20260617T193000
DTSTAMP:20260419T204235
CREATED:20260107T173830Z
LAST-MODIFIED:20260107T174005Z
UID:4580-1781715600-1781724600@stadtkloster-mgh.de
SUMMARY:Kulinarisches in der Klosterküche
DESCRIPTION:Gemeinschaft pflegen – miteinander kochen – einfache Lebensmittel verzaubern – gemeinsam verkosten und genießen\nMittwoch       17:00 – 19:30 Uhr \n\n17.06.2026 Fingerfood – kreativ und köstlich\n15.07.2026 Sommer – frisch\, leicht und bunt\n\nLeitung: Sr. Rita Bystricky\nAnmeldung: bis zum Vortag      Mail: sr.rita@klostersiessen.de\nKostenbeitrag erwünscht\nStadtkloster Bad Mergentheim
URL:https://stadtkloster-mgh.de/event/kulinarisches-in-der-klosterkueche-6/
END:VEVENT
BEGIN:VEVENT
DTSTART;TZID=Europe/Berlin:20260618T193000
DTEND;TZID=Europe/Berlin:20260618T210000
DTSTAMP:20260419T204235
CREATED:20260102T163423Z
LAST-MODIFIED:20260102T163428Z
UID:4546-1781811000-1781816400@stadtkloster-mgh.de
SUMMARY:Offenes Singen spiritueller Lieder mit Harfe und Gitarre
DESCRIPTION:Gemeinsames Singen leicht zu erlernender spiritueller Lieder und Mantras aus aller Welt. Für Gabrielle Weigel mit der Harfe und Herbert Hofmann mit der Gitarre stehen die Freude am Singen und der Zugang in die eigene Tiefe und in die innere Stille im Mittelpunkt.\nNähere Infos unter: www.songsofjoy.de\nDonnerstag    19.30 – 21.00 Uhr\n18.06. / 16.07.2026\nKostenbeitrag erbeten\nStadtkloster Bad Mergentheim
URL:https://stadtkloster-mgh.de/event/offenes-singen-spiritueller-lieder-mit-harfe-und-gitarre-7/
LOCATION:Stadtkloster Maria Hilf\, Marienstraße 1/1\, Bad Mergentheim\, 97980
END:VEVENT
BEGIN:VEVENT
DTSTART;TZID=Europe/Berlin:20260620T200000
DTEND;TZID=Europe/Berlin:20260620T223000
DTSTAMP:20260419T204235
CREATED:20260108T082132Z
LAST-MODIFIED:20260108T082136Z
UID:4586-1781985600-1781994600@stadtkloster-mgh.de
SUMMARY:Bewegt miteinander glauben - glaubend unterwegs sein
DESCRIPTION:Den Weg unter die Füße nehmen – pilgern – ist eine Ur-Form des christlichen Glaubens. In meditativen Wanderungen öffnen wir uns für Gottes Liebe\, staunen über die Wunder seiner Schöpfung\, werden sensibel für die eigene Lebens- und Glaubensspur. \nWenn sich die Sonne wendet  Zur Zeit der Sonnenwende wandern wir dem Sonnenuntergang am Spessartblick entgegen und bringen die Zeitenwende in Verbindung mit dem eigenen Leben.\nSamstag    20.06.2026    20:00 – 22:30 Uhr\nTreffpunkt: Stadtkloster Bad Mergentheim \nWegbegleitung: Wolfgang Bork\, Diakon\, Sr. Rita Bystricky\nAnmeldung: jeweils bis zum Vortag        Mail: sr.rita@klostersiessen.de
URL:https://stadtkloster-mgh.de/event/bewegt-miteinander-glauben-glaubend-unterwegs-sein-5/
END:VEVENT
BEGIN:VEVENT
DTSTART;TZID=Europe/Berlin:20260622T180000
DTEND;TZID=Europe/Berlin:20260622T190000
DTSTAMP:20260419T204235
CREATED:20260102T161231Z
LAST-MODIFIED:20260102T161236Z
UID:4505-1782151200-1782154800@stadtkloster-mgh.de
SUMMARY:Eutonie
DESCRIPTION:In der Eutonie geht es darum\, mit Leib und Seele gegenwärtig zu sein und den eigenen Leib bewusst wahrzunehmen.\nBitte mitbringen: bequeme Kleidung\, warme Socken\, Decke\, Handtuch.\nMontag    18.00 – 19.00 Uhr\n22.06. / 06.07. / 20.07.2026\nLeitung: Helga Haupt                Kostenbeitrag erbeten\nStadtkloster Bad Mergentheim
URL:https://stadtkloster-mgh.de/event/eutonie-11/
END:VEVENT
BEGIN:VEVENT
DTSTART;TZID=Europe/Berlin:20260622T193000
DTEND;TZID=Europe/Berlin:20260622T203000
DTSTAMP:20260419T204235
CREATED:20251230T095817Z
LAST-MODIFIED:20251230T095820Z
UID:4386-1782156600-1782160200@stadtkloster-mgh.de
SUMMARY:Seelentauchen
DESCRIPTION:Kontemplation zum Ausklang des Tages\nKontemplation ist ein Übungsweg\, der die Praxis der christlichen Meditation vertieft\, die intuitive Erkenntnis des Selbst- und In-der-Welt-Seins fördert und die Weiterentwicklung der Person unterstützt.\nElemente: Einstiegsimpuls\, 2×25 Min. Sitzen in der Stille\, 1x meditatives Gehen. \n\n19.30 – 20.30 Uhr\n22.06. / 06.07. / 20.07.2026\nLeitung: Anette Roppert-Leimeister\nStadtkloster Bad Mergentheim
URL:https://stadtkloster-mgh.de/event/seelentauchen-12/
END:VEVENT
BEGIN:VEVENT
DTSTART;TZID=Europe/Berlin:20260625T093000
DTEND;TZID=Europe/Berlin:20260625T110000
DTSTAMP:20260419T204235
CREATED:20251230T162805Z
LAST-MODIFIED:20251230T162805Z
UID:4445-1782379800-1782385200@stadtkloster-mgh.de
SUMMARY:Bibel teilen
DESCRIPTION:Das Wort Gottes will in unserem Leben lebendig und konkret werden.\nWir bereiten das Evangelium des folgenden Sonntags miteinander im Gespräch vor und bringen es mit unserem eigenen Leben in Verbindung.\n9:30 – 11:00 Uhr\n25.06. / 09.07.2026\nLeitung: Sr. M. Rita Bystricky\nStadtkloster Bad Mergentheim
URL:https://stadtkloster-mgh.de/event/bibel-teilen-9/
END:VEVENT
BEGIN:VEVENT
DTSTART;TZID=Europe/Berlin:20260626T193000
DTEND;TZID=Europe/Berlin:20260626T210000
DTSTAMP:20260419T204235
CREATED:20260108T084626Z
LAST-MODIFIED:20260108T084629Z
UID:4621-1782502200-1782507600@stadtkloster-mgh.de
SUMMARY:Kleine Auszeit für Frauen - Weil ich es mir wert bin…
DESCRIPTION:…gönne ich mir einen Abend Zeit\, um die Seele zu streicheln und sie baumeln zu lassen.\nEin Impulsgedanke führt durch den Abend. Vielfältige Methoden wie Achtsamkeitsübungen oder meditativer Tanz helfen Ressourcen aufzutanken\, durchzuatmen\, sich zu erden und zu entspannen. Im Mittelpunkt stehen dabei das persönliche Erleben und der Austausch untereinander.\nDie Abende können unabhängig voneinander besucht werden.\n19:30 Uhr – 21:00 Uhr\nFreitag          26. Juni 2026   „Zur Quelle finden“\nLeitung: Mechthild Carlet\, Gestaltberaterin\, Katechetin\, Dekanatsbeauftragte für Familienpastoral\nAnmeldung: KEB Tel: 07931/9689743 oder Mail: keb.mergentheim@drs.de\nKostenbeitrag erbeten\nVeranstalter: KEB Mergentheim und Stadtkloster\nStadtkloster Bad Mergentheim
URL:https://stadtkloster-mgh.de/event/kleine-auszeit-fuer-frauen-weil-ich-es-mir-wert-bin-2/
END:VEVENT
BEGIN:VEVENT
DTSTART;TZID=Europe/Berlin:20260702T150000
DTEND;TZID=Europe/Berlin:20260702T170000
DTSTAMP:20260419T204235
CREATED:20260102T165012Z
LAST-MODIFIED:20260102T165016Z
UID:4550-1783004400-1783011600@stadtkloster-mgh.de
SUMMARY:Lebenswege – Geschichten\, die verbinden
DESCRIPTION:Bei diesen Treffen geht es um das Teilen von Lebensgeschichten\, um Zuhören\, Resonanz und gegenseitige Inspiration\, begleitet von Impulsen. Die Nachmittage können unabhängig voneinander besucht werden.\n\n02.07.2026\nUnterwegs\nVom Aufbrechen und Ankommen.\nWelche Reisen oder Ortswechsel haben Ihr Leben geprägt? \nLeitung: Cordula Günther\nAnmeldung: bis jeweils vorherigen Samstag\nStadtkloster Bad Mergentheim
URL:https://stadtkloster-mgh.de/event/lebenswege-geschichten-die-verbinden-6/
END:VEVENT
BEGIN:VEVENT
DTSTART;TZID=Europe/Berlin:20260706T180000
DTEND;TZID=Europe/Berlin:20260706T190000
DTSTAMP:20260419T204235
CREATED:20260102T161300Z
LAST-MODIFIED:20260102T161303Z
UID:4504-1783360800-1783364400@stadtkloster-mgh.de
SUMMARY:Eutonie
DESCRIPTION:In der Eutonie geht es darum\, mit Leib und Seele gegenwärtig zu sein und den eigenen Leib bewusst wahrzunehmen.\nBitte mitbringen: bequeme Kleidung\, warme Socken\, Decke\, Handtuch.\nMontag    18.00 – 19.00 Uhr\n06.07. / 20.07.2026\nLeitung: Helga Haupt                Kostenbeitrag erbeten\nStadtkloster Bad Mergentheim
URL:https://stadtkloster-mgh.de/event/eutonie-12/
END:VEVENT
BEGIN:VEVENT
DTSTART;TZID=Europe/Berlin:20260706T193000
DTEND;TZID=Europe/Berlin:20260706T203000
DTSTAMP:20260419T204235
CREATED:20251230T095855Z
LAST-MODIFIED:20251230T095858Z
UID:4385-1783366200-1783369800@stadtkloster-mgh.de
SUMMARY:Seelentauchen
DESCRIPTION:Kontemplation zum Ausklang des Tages\nKontemplation ist ein Übungsweg\, der die Praxis der christlichen Meditation vertieft\, die intuitive Erkenntnis des Selbst- und In-der-Welt-Seins fördert und die Weiterentwicklung der Person unterstützt.\nElemente: Einstiegsimpuls\, 2×25 Min. Sitzen in der Stille\, 1x meditatives Gehen. \n\n19.30 – 20.30 Uhr\n06.07. / 20.07.2026\nLeitung: Anette Roppert-Leimeister\nStadtkloster Bad Mergentheim
URL:https://stadtkloster-mgh.de/event/seelentauchen-13/
END:VEVENT
END:VCALENDAR