BEGIN:VCALENDAR
VERSION:2.0
PRODID:-//Stadtkloster Bad Mergentheim - ECPv6.15.20//NONSGML v1.0//EN
CALSCALE:GREGORIAN
METHOD:PUBLISH
X-ORIGINAL-URL:https://stadtkloster-mgh.de
X-WR-CALDESC:Veranstaltungen für Stadtkloster Bad Mergentheim
REFRESH-INTERVAL;VALUE=DURATION:PT1H
X-Robots-Tag:noindex
X-PUBLISHED-TTL:PT1H
BEGIN:VTIMEZONE
TZID:Europe/Berlin
BEGIN:DAYLIGHT
TZOFFSETFROM:+0100
TZOFFSETTO:+0200
TZNAME:CEST
DTSTART:20250330T010000
END:DAYLIGHT
BEGIN:STANDARD
TZOFFSETFROM:+0200
TZOFFSETTO:+0100
TZNAME:CET
DTSTART:20251026T010000
END:STANDARD
BEGIN:DAYLIGHT
TZOFFSETFROM:+0100
TZOFFSETTO:+0200
TZNAME:CEST
DTSTART:20260329T010000
END:DAYLIGHT
BEGIN:STANDARD
TZOFFSETFROM:+0200
TZOFFSETTO:+0100
TZNAME:CET
DTSTART:20261025T010000
END:STANDARD
BEGIN:DAYLIGHT
TZOFFSETFROM:+0100
TZOFFSETTO:+0200
TZNAME:CEST
DTSTART:20270328T010000
END:DAYLIGHT
BEGIN:STANDARD
TZOFFSETFROM:+0200
TZOFFSETTO:+0100
TZNAME:CET
DTSTART:20271031T010000
END:STANDARD
END:VTIMEZONE
BEGIN:VEVENT
DTSTART;TZID=Europe/Berlin:20260419T183000
DTEND;TZID=Europe/Berlin:20260419T200000
DTSTAMP:20260419T173922
CREATED:20251230T164059Z
LAST-MODIFIED:20251230T164111Z
UID:4466-1776623400-1776628800@stadtkloster-mgh.de
SUMMARY:Lectio Divina
DESCRIPTION:Gemeinsam lesen wir ausgewählte Texte aus den Evangelien\, verweilen im stillen Hören\, teilen Impulse und stärken unseren Glauben aus dem Wort Gottes.\nSonntag   18:30 – 20:00 Uhr\n19.04. / 03.05. / 14.06. / 12.07.2026\nLeitung: Barbara Ruck\nOrt: Carolinum\, Kapelle/Mehrzweckraum\, Bad Mergentheim
URL:https://stadtkloster-mgh.de/event/lectio-divina-3/
END:VEVENT
BEGIN:VEVENT
DTSTART;TZID=Europe/Berlin:20260420T180000
DTEND;TZID=Europe/Berlin:20260420T190000
DTSTAMP:20260419T173922
CREATED:20260102T160941Z
LAST-MODIFIED:20260102T160951Z
UID:4498-1776708000-1776711600@stadtkloster-mgh.de
SUMMARY:Eutonie
DESCRIPTION:In der Eutonie geht es darum\, mit Leib und Seele gegenwärtig zu sein und den eigenen Leib bewusst wahrzunehmen.\nBitte mitbringen: bequeme Kleidung\, warme Socken\, Decke\, Handtuch.\nMontag    18.00 – 19.00 Uhr\n20.04. / 04.05. / 18.05. / 08.06. / 22.06. / 06.07. / 20.07.2026\nLeitung: Helga Haupt                Kostenbeitrag erbeten\nStadtkloster Bad Mergentheim
URL:https://stadtkloster-mgh.de/event/eutonie-5/
END:VEVENT
BEGIN:VEVENT
DTSTART;TZID=Europe/Berlin:20260420T193000
DTEND;TZID=Europe/Berlin:20260420T203000
DTSTAMP:20260419T173922
CREATED:20251230T095517Z
LAST-MODIFIED:20251230T095521Z
UID:4390-1776713400-1776717000@stadtkloster-mgh.de
SUMMARY:Seelentauchen
DESCRIPTION:Kontemplation zum Ausklang des Tages\nKontemplation ist ein Übungsweg\, der die Praxis der christlichen Meditation vertieft\, die intuitive Erkenntnis des Selbst- und In-der-Welt-Seins fördert und die Weiterentwicklung der Person unterstützt.\nElemente: Einstiegsimpuls\, 2×25 Min. Sitzen in der Stille\, 1x meditatives Gehen. \n\n19.30 – 20.30 Uhr\n20.04. / 04.05. / 18.05. / 08.06. / 22.06. / 06.07. / 20.07.2026\nLeitung: Anette Roppert-Leimeister\nStadtkloster Bad Mergentheim
URL:https://stadtkloster-mgh.de/event/seelentauchen-6/
END:VEVENT
BEGIN:VEVENT
DTSTART;TZID=Europe/Berlin:20260422T190000
DTEND;TZID=Europe/Berlin:20260422T203000
DTSTAMP:20260419T173922
CREATED:20260108T084954Z
LAST-MODIFIED:20260108T085011Z
UID:4625-1776884400-1776889800@stadtkloster-mgh.de
SUMMARY:Einen Schritt näher kommen
DESCRIPTION:Gedankenaustausch und Vertiefung zu Navid Kermanis Buch\nDer mit dem Friedenspreis des Deutschen Buchhandels ausgezeichnete Publizist und Orientalist Navid Kermani hat sich in der Diskussion mit seiner Tochter die Gottesfrage gestellt. Die Antworten darauf hat er in dem Buch „Jeder soll von da\, wo er ist\, einen Schritt näherkommen“ (München\, Hanser 2023) gesammelt. Im Gedankenaustausch über ausgewählte Abschnitte aus Kermanis Buch vertiefen wir die Überlegungen und Einsichten des Autors.\nDie vorherige Lektüre des Buches ist wünschenswert\, wird aber nicht vorausgesetzt.\nMittwoch    19:00 – 20:30 Uhr\n22.04. / 29.04. / 06.05.2026\nLeitung: Wolfgang Friedrichs\nAnmeldung: bis 20.04.\nStadtkloster Bad Mergentheim
URL:https://stadtkloster-mgh.de/event/einen-schritt-naeher-kommen/
END:VEVENT
BEGIN:VEVENT
DTSTART;TZID=Europe/Berlin:20260424T190000
DTEND;TZID=Europe/Berlin:20260424T203000
DTSTAMP:20260419T173922
CREATED:20251118T135456Z
LAST-MODIFIED:20251118T135456Z
UID:4153-1777057200-1777062600@stadtkloster-mgh.de
SUMMARY:Von Gott berührt - Abend der Barmherzigkeit
DESCRIPTION:Wir nehmen uns Zeit\, innezuhalten um uns in besonderer Atmosphäre für Gottes heilsames Wirken zu öffnen.\nElemente: Impulse\, Lieder\, Anbetung\, Möglichkeit zum Empfang des Bußsakramentes und zur persönlichen Segnung. \n19.00 – 20.30 Uhr  \n\nFreitag\, 24. April 2026\n\nKlosterkirche Bad Mergentheim
URL:https://stadtkloster-mgh.de/event/von-gott-beruehrt-abend-der-barmherzigkeit-3/
END:VEVENT
BEGIN:VEVENT
DTSTART;TZID=Europe/Berlin:20260425T093000
DTEND;TZID=Europe/Berlin:20260425T153000
DTSTAMP:20260419T173922
CREATED:20260108T085116Z
LAST-MODIFIED:20260108T085118Z
UID:4627-1777109400-1777131000@stadtkloster-mgh.de
SUMMARY:Oasentag der Weggemeinschaft des Geistlichen Zentrums
DESCRIPTION:Ermutigungstag für alle\, die sich im Geistlichen Zentrum engagieren.\nSamstag    25. April 2026    9:30 – 15:30 Uhr\nAnmeldung: bis 20.04.\nStadtkloster Bad Mergentheim
URL:https://stadtkloster-mgh.de/event/oasentag-der-weggemeinschaft-des-geistlichen-zentrums/
END:VEVENT
BEGIN:VEVENT
DTSTART;TZID=Europe/Berlin:20260429T093000
DTEND;TZID=Europe/Berlin:20260429T110000
DTSTAMP:20260419T173922
CREATED:20260102T162152Z
LAST-MODIFIED:20260102T162156Z
UID:4512-1777455000-1777460400@stadtkloster-mgh.de
SUMMARY:Meditation am Vormittag
DESCRIPTION:Mitten im Alltag innehalten\, zur Ruhe kommen\, bei sich selbst und bei Gott ankommen.\nElemente: Impulse zur Stille und zum Gebet\, Beten mit dem Leib\, Meditatives Gehen\, Sitzen in der Stille.\nBitte mitbringen: Warme Socken\, bequeme Kleidung.\n9.30 – 11.00 Uhr\n29.04. / 20.05. / 03.06./ 17.06. / 15.07. / 29.07.2026\nLeitung: Sr. Ursula Hedrich\nStadtkloster Bad Mergentheim
URL:https://stadtkloster-mgh.de/event/meditation-am-vormittag-6/
END:VEVENT
BEGIN:VEVENT
DTSTART;TZID=Europe/Berlin:20260430T093000
DTEND;TZID=Europe/Berlin:20260430T110000
DTSTAMP:20260419T173922
CREATED:20251230T162540Z
LAST-MODIFIED:20251230T162544Z
UID:4437-1777541400-1777546800@stadtkloster-mgh.de
SUMMARY:Bibel teilen
DESCRIPTION:Das Wort Gottes will in unserem Leben lebendig und konkret werden.\nWir bereiten das Evangelium des folgenden Sonntags miteinander im Gespräch vor und bringen es mit unserem eigenen Leben in Verbindung.\n9:30 – 11:00 Uhr\n30.04. / 21.05. / 11.06. / 25.06. / 09.07.2026\nLeitung: Sr. M. Rita Bystricky\nStadtkloster Bad Mergentheim
URL:https://stadtkloster-mgh.de/event/bibel-teilen-6/
END:VEVENT
END:VCALENDAR